BEGIN:VCALENDAR
VERSION:2.0
PRODID:-//Plymouth Schools Music Association - ECPv6.15.20//NONSGML v1.0//EN
CALSCALE:GREGORIAN
METHOD:PUBLISH
X-ORIGINAL-URL:https://plymouthschoolsmusic.org
X-WR-CALDESC:Events for Plymouth Schools Music Association
REFRESH-INTERVAL;VALUE=DURATION:PT1H
X-Robots-Tag:noindex
X-PUBLISHED-TTL:PT1H
BEGIN:VTIMEZONE
TZID:UTC
BEGIN:STANDARD
TZOFFSETFROM:+0000
TZOFFSETTO:+0000
TZNAME:UTC
DTSTART:20240101T000000
END:STANDARD
END:VTIMEZONE
BEGIN:VEVENT
DTSTART;TZID=UTC:20250110T190000
DTEND;TZID=UTC:20250110T213000
DTSTAMP:20260420T052032
CREATED:20240823T140309Z
LAST-MODIFIED:20240930T211212Z
UID:953-1736535600-1736544600@plymouthschoolsmusic.org
SUMMARY:Winter A Cappella Performance
DESCRIPTION:
URL:https://plymouthschoolsmusic.org/event/winter-a-cappella-performance/
LOCATION:Plymouth North High School\, 41 Obery St.\, Plymouth\, MA\, 02360\, United States
CATEGORIES:A Cappella Event
ATTACH;FMTTYPE=image/jpeg:https://plymouthschoolsmusic.org/wp-content/uploads/2024/08/Menergy-1.jpg
END:VEVENT
BEGIN:VEVENT
DTSTART;VALUE=DATE:20250124
DTEND;VALUE=DATE:20250125
DTSTAMP:20260420T052032
CREATED:20240930T210907Z
LAST-MODIFIED:20241011T161038Z
UID:1402-1737676800-1737763199@plymouthschoolsmusic.org
SUMMARY:New England Voices
DESCRIPTION:New England Voices takes place at both Plymouth North and Plymouth South High Schools
URL:https://plymouthschoolsmusic.org/event/northeast-voices/
LOCATION:MA
CATEGORIES:All High Schools
ATTACH;FMTTYPE=image/jpeg:https://plymouthschoolsmusic.org/wp-content/uploads/2024/08/Girl-Treble-4.jpg
END:VEVENT
BEGIN:VEVENT
DTSTART;VALUE=DATE:20250125
DTEND;VALUE=DATE:20250126
DTSTAMP:20260420T052032
CREATED:20240930T211103Z
LAST-MODIFIED:20241011T160945Z
UID:1404-1737763200-1737849599@plymouthschoolsmusic.org
SUMMARY:New England Voices
DESCRIPTION:New England Voices takes place at both Plymouth North and Plymouth South High Schools at various times.
URL:https://plymouthschoolsmusic.org/event/northeast-voices-2/
LOCATION:MA
CATEGORIES:All High Schools
ATTACH;FMTTYPE=image/jpeg:https://plymouthschoolsmusic.org/wp-content/uploads/2024/08/Spectrum-3.jpg
END:VEVENT
END:VCALENDAR