BEGIN:VCALENDAR
VERSION:2.0
PRODID:-//Plymouth Schools Music Association - ECPv6.15.20//NONSGML v1.0//EN
CALSCALE:GREGORIAN
METHOD:PUBLISH
X-ORIGINAL-URL:https://plymouthschoolsmusic.org
X-WR-CALDESC:Events for Plymouth Schools Music Association
REFRESH-INTERVAL;VALUE=DURATION:PT1H
X-Robots-Tag:noindex
X-PUBLISHED-TTL:PT1H
BEGIN:VTIMEZONE
TZID:UTC
BEGIN:STANDARD
TZOFFSETFROM:+0000
TZOFFSETTO:+0000
TZNAME:UTC
DTSTART:20230101T000000
END:STANDARD
END:VTIMEZONE
BEGIN:VEVENT
DTSTART;TZID=UTC:20241213T190000
DTEND;TZID=UTC:20241213T210000
DTSTAMP:20260420T070937
CREATED:20240930T205420Z
LAST-MODIFIED:20240930T205420Z
UID:1392-1734116400-1734123600@plymouthschoolsmusic.org
SUMMARY:Plymouth North/Plymouth South Coffee House
DESCRIPTION:
URL:https://plymouthschoolsmusic.org/event/plymouth-north-plymouth-south-coffee-house/
LOCATION:Plymouth South High School\, 490 Long Pond Rd.\, Plymouth\, MA\, 02360\, United States
CATEGORIES:All High Schools
END:VEVENT
BEGIN:VEVENT
DTSTART;TZID=UTC:20241217T190000
DTEND;TZID=UTC:20241217T210000
DTSTAMP:20260420T070937
CREATED:20240823T140049Z
LAST-MODIFIED:20240823T140050Z
UID:951-1734462000-1734469200@plymouthschoolsmusic.org
SUMMARY:Plymouth North High School - CHORUS CONCERT
DESCRIPTION:
URL:https://plymouthschoolsmusic.org/event/plymouth-north-high-school-chorus-concert/
LOCATION:Plymouth North High School\, 41 Obery St.\, Plymouth\, MA\, 02360\, United States
CATEGORIES:PNHS Events
END:VEVENT
BEGIN:VEVENT
DTSTART;TZID=UTC:20241219T190000
DTEND;TZID=UTC:20241219T210000
DTSTAMP:20260420T070937
CREATED:20240930T210329Z
LAST-MODIFIED:20240930T210329Z
UID:1400-1734634800-1734642000@plymouthschoolsmusic.org
SUMMARY:PNHS/PSHS Band & Orchestra Concert
DESCRIPTION:
URL:https://plymouthschoolsmusic.org/event/pnhs-pshs-band-orchestra-concert/
LOCATION:Plymouth South High School\, 490 Long Pond Rd.\, Plymouth\, MA\, 02360\, United States
CATEGORIES:All High Schools
END:VEVENT
END:VCALENDAR